BEGIN:VCALENDAR
VERSION:2.0
PRODID:SchoolNow
CALSCALE:GREGORIAN
BEGIN:VEVENT
UID:8d099ce4-c92c-11eb-b78a-0a7f11e2523d
DTSTAMP:20231218T225438Z
SUMMARY:Chromebook Collection - June 7\, 2021
URL;VALUE=URI:https://www.hammond.k12.in.us/calendar/2615741/chromebook-col
 lection-june-7-2021
DTSTART:20210607T133000Z
DTEND:20210607T200000Z
END:VEVENT
END:VCALENDAR
