BEGIN:VCALENDAR
VERSION:2.0
PRODID:SchoolNow
CALSCALE:GREGORIAN
BEGIN:VEVENT
UID:5211e2cc-c92c-11eb-9eee-0a7f11e2523d
DTSTAMP:20231218T225450Z
SUMMARY:Chromebook Collection - June 8\, 2021
URL;VALUE=URI:https://www.hammond.k12.in.us/calendar/2615740/chromebook-col
 lection-june-8-2021
DTSTART:20210608T133000Z
DTEND:20210608T200000Z
END:VEVENT
END:VCALENDAR
