BEGIN:VCALENDAR
VERSION:2.0
PRODID:SchoolNow
CALSCALE:GREGORIAN
BEGIN:VEVENT
UID:28f33206-c92c-11eb-badf-0a7f11e2523d
DTSTAMP:20231218T225503Z
SUMMARY:Chromebook Collection - June 9\, 2021
URL;VALUE=URI:https://www.hammond.k12.in.us/calendar/2615739/chromebook-col
 lection-june-9-2021
DTSTART:20210609T133000Z
DTEND:20210609T200000Z
END:VEVENT
END:VCALENDAR
