BEGIN:VCALENDAR
VERSION:2.0
PRODID:SchoolNow
CALSCALE:GREGORIAN
BEGIN:VEVENT
UID:0834e5de-b9a8-11eb-8656-0e531fb8f63f
DTSTAMP:20231218T183347Z
SUMMARY:Executive Session - May 26\, 2021
LOCATION:Administration Center\, 41 Williams Street\, Hammond\, IN 46320
URL;VALUE=URI:https://www.hammond.k12.in.us/calendar/2603302/executive-sess
 ion-may-26-2021
DTSTART:20210526T223000Z
DTEND:20210526T233000Z
ATTACH;FILENAME=SCH_Executive Sessions_R.pdf;FMTTYPE=application/pdf:https:
 //campussuite-storage.s3.amazonaws.com/prod/1559033/fab8744a-ab41-11ea-9bf
 a-127f10bcdb1b/2268626/9fc59688-bcd1-11eb-82c7-02b07ef1c1fd/file/SCH_Execu
 tive Sessions_R.pdf
END:VEVENT
END:VCALENDAR
