BEGIN:VCALENDAR
VERSION:2.0
PRODID:SchoolNow
CALSCALE:GREGORIAN
BEGIN:VEVENT
UID:483fa1ba-b416-11eb-916f-0a652155cb79
DTSTAMP:20231218T183422Z
SUMMARY:Executive Session - June 1\, 2021
LOCATION:Administration Center\, 41 Williams Street\, Hammond\, IN 46320
URL;VALUE=URI:https://www.hammond.k12.in.us/calendar/2599738/executive-sess
 ion-june-1-2021
DTSTART:20210601T223000Z
DTEND:20210601T230000Z
ATTACH;FILENAME=SCH_Executive Session_June 1 2021_R.pdf;FMTTYPE=application
 /pdf:https://campussuite-storage.s3.amazonaws.com/prod/1559033/fab8744a-ab
 41-11ea-9bfa-127f10bcdb1b/2271624/d811b524-c011-11eb-8a3e-0e4a6d9ad987/fil
 e/SCH_Executive Session_June 1 2021_R.pdf
ATTACH;FILENAME=School Board Meetings_June 2021_R.pdf;FMTTYPE=application/p
 df:https://campussuite-storage.s3.amazonaws.com/prod/1559033/fab8744a-ab41
 -11ea-9bfa-127f10bcdb1b/2271623/d811af48-c011-11eb-af14-0e4a6d9ad987/file/
 School Board Meetings_June 2021_R.pdf
END:VEVENT
END:VCALENDAR
