BEGIN:VCALENDAR
VERSION:2.0
PRODID:SchoolNow
CALSCALE:GREGORIAN
BEGIN:VEVENT
UID:31caec0a-b416-11eb-b98f-0a652155cb79
DTSTAMP:20231218T211853Z
SUMMARY:School Board Meeting - June 15\, 2021
LOCATION:SCH Administration Center\, 41 Williams Street\, Hammond\, IN 4632
 0
URL;VALUE=URI:https://www.hammond.k12.in.us/calendar/2599737/school-board-m
 eeting-june-15-2021
DTSTART:20210615T230000Z
DTEND:20210616T003000Z
ATTACH;FILENAME=School Board Meetings_June 2021_R.pdf;FMTTYPE=application/p
 df:https://campussuite-storage.s3.amazonaws.com/prod/1559033/fab8744a-ab41
 -11ea-9bfa-127f10bcdb1b/2271623/d811af48-c011-11eb-af14-0e4a6d9ad987/file/
 School Board Meetings_June 2021_R.pdf
END:VEVENT
END:VCALENDAR
