BEGIN:VCALENDAR
VERSION:2.0
PRODID:SchoolNow
CALSCALE:GREGORIAN
BEGIN:VEVENT
UID:85d2d03a-a75d-11eb-ab72-02f81dc5f725
DTSTAMP:20231218T214406Z
SUMMARY:Public Work Session - May 10\, 2021
LOCATION:Administration Center\, 41 Williams Street\, Hammond\, IN 46320
URL;VALUE=URI:https://www.hammond.k12.in.us/calendar/2587204/public-work-se
 ssion-may-10-2021
DTSTART:20210510T223000Z
DTEND:20210510T233000Z
ATTACH;FILENAME=SCH_Executive Session_Public Work Session_May.pdf;FMTTYPE=a
 pplication/pdf:https://campussuite-storage.s3.amazonaws.com/prod/1559033/f
 ab8744a-ab41-11ea-9bfa-127f10bcdb1b/2256583/3fa5e204-a75e-11eb-8cdb-02f81d
 c5f725/file/SCH_Executive Session_Public Work Session_May.pdf
ATTACH;FILENAME=School Board Meetings_May_R.pdf;FMTTYPE=application/pdf:htt
 ps://campussuite-storage.s3.amazonaws.com/prod/1559033/fab8744a-ab41-11ea-
 9bfa-127f10bcdb1b/2256584/3fa5ebbe-a75e-11eb-b81f-02f81dc5f725/file/School
  Board Meetings_May_R.pdf
END:VEVENT
END:VCALENDAR
