BEGIN:VCALENDAR
VERSION:2.0
PRODID:SchoolNow
CALSCALE:GREGORIAN
BEGIN:VEVENT
UID:252354da-a2df-11eb-b585-02a96d354b6f
DTSTAMP:20231218T220212Z
SUMMARY:Memorial Day 2021 (No School)
URL;VALUE=URI:https://www.hammond.k12.in.us/calendar/2583866/memorial-day-2
 021-no-school
DTSTART;VALUE=DATE:20210531
DTEND;VALUE=DATE:20210601
END:VEVENT
END:VCALENDAR
