BEGIN:VCALENDAR
VERSION:2.0
PRODID:SchoolNow
CALSCALE:GREGORIAN
BEGIN:VEVENT
UID:cf31d088-a2de-11eb-983b-0e8ff19c0a85
DTSTAMP:20231218T211813Z
SUMMARY:School Board Meeting - May 4\, 2021
LOCATION:SCH Administration Center\, 41 Williams Street\, Hammond\, IN 4632
 0
URL;VALUE=URI:https://www.hammond.k12.in.us/calendar/2583861/school-board-m
 eeting-may-4-2021
DTSTART:20210504T230000Z
DTEND:20210505T003000Z
ATTACH;FILENAME=School Board Meetings_May_R.pdf;FMTTYPE=application/pdf:htt
 ps://campussuite-storage.s3.amazonaws.com/prod/1559033/fab8744a-ab41-11ea-
 9bfa-127f10bcdb1b/2256584/3fa5ebbe-a75e-11eb-b81f-02f81dc5f725/file/School
  Board Meetings_May_R.pdf
END:VEVENT
END:VCALENDAR
