BEGIN:VCALENDAR
VERSION:2.0
PRODID:SchoolNow
CALSCALE:GREGORIAN
BEGIN:VEVENT
UID:cfbe26b4-a149-11eb-9b12-0ef7f164c4e1
DTSTAMP:20231218T225620Z
SUMMARY:Morton High School Graduation 2021
LOCATION:Wolf Lake Pavilion
URL;VALUE=URI:https://www.hammond.k12.in.us/calendar/2582190/morton-high-sc
 hool-graduation-2021
DTSTART:20210612T223000Z
DTEND:20210612T233000Z
END:VEVENT
END:VCALENDAR
