BEGIN:VCALENDAR
VERSION:2.0
PRODID:SchoolNow
CALSCALE:GREGORIAN
BEGIN:VEVENT
UID:bd3948fc-a149-11eb-b734-0ef7f164c4e1
DTSTAMP:20231218T225601Z
SUMMARY:Hammond High School Graduation 2021
LOCATION:Wolf Lake Pavilion
URL;VALUE=URI:https://www.hammond.k12.in.us/calendar/2582189/hammond-high-s
 chool-graduation-2021
DTSTART:20210610T230000Z
DTEND:20210611T000000Z
END:VEVENT
END:VCALENDAR
