BEGIN:VCALENDAR
VERSION:2.0
PRODID:SchoolNow
CALSCALE:GREGORIAN
BEGIN:VEVENT
UID:a4dae982-a149-11eb-8bec-0ef7f164c4e1
DTSTAMP:20231218T225610Z
SUMMARY:Gavit High School Graduation 2021
LOCATION:Wolf Lake Pavilion
URL;VALUE=URI:https://www.hammond.k12.in.us/calendar/2582186/gavit-high-sch
 ool-graduation-2021
DTSTART:20210612T160000Z
DTEND:20210612T170000Z
END:VEVENT
END:VCALENDAR
