BEGIN:VCALENDAR
VERSION:2.0
PRODID:SchoolNow
CALSCALE:GREGORIAN
BEGIN:VEVENT
UID:8ce9dce8-a149-11eb-a8d9-0ef7f164c4e1
DTSTAMP:20231218T225553Z
SUMMARY:Clark High School Graduation 2021
LOCATION:Wolf Lake Pavilion
URL;VALUE=URI:https://www.hammond.k12.in.us/calendar/2582182/clark-high-sch
 ool-graduation-2021
DTSTART:20210610T000000Z
DTEND:20210610T010000Z
END:VEVENT
END:VCALENDAR
