BEGIN:VCALENDAR
VERSION:2.0
PRODID:SchoolNow
CALSCALE:GREGORIAN
BEGIN:VEVENT
UID:0d722280-8b38-11eb-85bb-02c8f245899f
DTSTAMP:20231218T182457Z
SUMMARY:Executive Session - April 8\, 2021
LOCATION:Administration Center\, 41 Williams Street\, Hammond\, IN 46320
URL;VALUE=URI:https://www.hammond.k12.in.us/calendar/2560300/executive-sess
 ion-april-8-2021
DTSTART:20210408T223000Z
DTEND:20210408T233000Z
ATTACH;FILENAME=SCH_Executive Sessions_Public Work Session_April_R.pdf;FMTT
 YPE=application/pdf:https://campussuite-storage.s3.amazonaws.com/prod/1559
 033/fab8744a-ab41-11ea-9bfa-127f10bcdb1b/2249196/0b41c96a-97a5-11eb-8ff8-0
 e9a3bbf40d1/file/SCH_Executive Sessions_Public Work Session_April_R.pdf
END:VEVENT
END:VCALENDAR
