BEGIN:VCALENDAR
VERSION:2.0
PRODID:SchoolNow
CALSCALE:GREGORIAN
BEGIN:VEVENT
UID:6b108fe0-8b37-11eb-b80c-025fbb22a70d
DTSTAMP:20231218T182446Z
SUMMARY:Executive Session - April 6\, 2021
LOCATION:Administration Center\, 41 Williams Street\, Hammond\, IN 46320
URL;VALUE=URI:https://www.hammond.k12.in.us/calendar/2560299/executive-sess
 ion-april-6-2021
DTSTART:20210406T223000Z
DTEND:20210406T230000Z
ATTACH;FILENAME=SCH_Executive Sessions_Public Work Session_April.pdf;FMTTYP
 E=application/pdf:https://campussuite-storage.s3.amazonaws.com/prod/155903
 3/fab8744a-ab41-11ea-9bfa-127f10bcdb1b/2242827/357ff5d4-8b35-11eb-a457-0e5
 3f7c712b5/file/SCH_Executive Sessions_Public Work Session_April.pdf
END:VEVENT
END:VCALENDAR
