BEGIN:VCALENDAR
VERSION:2.0
PRODID:SchoolNow
CALSCALE:GREGORIAN
BEGIN:VEVENT
UID:12a7bc5c-8b37-11eb-b003-025fbb22a70d
DTSTAMP:20231218T211426Z
SUMMARY:School Board Meeting - April 20\, 2021
LOCATION:SCH Administration Center\, 41 Williams Street\, Hammond\, IN 4632
 0
URL;VALUE=URI:https://www.hammond.k12.in.us/calendar/2560297/school-board-m
 eeting-april-20-2021
DTSTART:20210420T230000Z
DTEND:20210421T003000Z
ATTACH;FILENAME=School Board Meetings_Apr.pdf;FMTTYPE=application/pdf:https
 ://campussuite-storage.s3.amazonaws.com/prod/1559033/fab8744a-ab41-11ea-9b
 fa-127f10bcdb1b/2242826/357fef26-8b35-11eb-a733-0e53f7c712b5/file/School B
 oard Meetings_Apr.pdf
END:VEVENT
END:VCALENDAR
