BEGIN:VCALENDAR
VERSION:2.0
PRODID:SchoolNow
CALSCALE:GREGORIAN
BEGIN:VEVENT
UID:f5ab3578-80f2-11eb-b3d7-0e4962e1e56d
DTSTAMP:20231218T214245Z
SUMMARY:Public Work Session - March 18\, 2021
LOCATION:Virtual Meeting
URL;VALUE=URI:https://www.hammond.k12.in.us/calendar/2553933/public-work-se
 ssion-march-18-2021
DTSTART:20210318T223000Z
DTEND:20210318T233000Z
ATTACH;FILENAME=SCH_PublicWorkSession_03182021.pdf;FMTTYPE=application/pdf:
 https://campussuite-storage.s3.amazonaws.com/prod/1559033/fab8744a-ab41-11
 ea-9bfa-127f10bcdb1b/2236800/eab7a75a-80f2-11eb-bed1-0e4962e1e56d/file/SCH
 _PublicWorkSession_03182021.pdf
END:VEVENT
END:VCALENDAR
