BEGIN:VCALENDAR
VERSION:2.0
PRODID:SchoolNow
CALSCALE:GREGORIAN
BEGIN:VEVENT
UID:30ba5766-76c1-11eb-96e3-0e830beb5ca9
DTSTAMP:20231218T182430Z
SUMMARY:Executive Session - Mar. 1\, 2021
LOCATION:Administration Center\, 41 Williams Street\, Hammond\, IN 46320
URL;VALUE=URI:https://www.hammond.k12.in.us/calendar/2546098/executive-sess
 ion-mar-1-2021
DTSTART:20210301T233000Z
DTEND:20210302T003000Z
ATTACH;FILENAME=SCH_Executive Sessions_03012021.pdf;FMTTYPE=application/pdf
 :https://campussuite-storage.s3.amazonaws.com/prod/1559033/fab8744a-ab41-1
 1ea-9bfa-127f10bcdb1b/2230936/08a0ff96-76c1-11eb-ba64-0e830beb5ca9/file/SC
 H_Executive Sessions_03012021.pdf
END:VEVENT
END:VCALENDAR
