BEGIN:VCALENDAR
VERSION:2.0
PRODID:SchoolNow
CALSCALE:GREGORIAN
BEGIN:VEVENT
UID:9fa9cbfe-7237-11eb-9b44-0a4ddfa1fd2d
DTSTAMP:20231218T211150Z
SUMMARY:School Board Meeting - March 2\, 2021
LOCATION:School City of Hammond's YouTube Channel
URL;VALUE=URI:https://www.hammond.k12.in.us/calendar/2542739/school-board-m
 eeting-march-2-2021
DTSTART:20210303T000000Z
DTEND:20210303T013000Z
END:VEVENT
END:VCALENDAR
