BEGIN:VCALENDAR
VERSION:2.0
PRODID:SchoolNow
CALSCALE:GREGORIAN
BEGIN:VEVENT
UID:e95f347e-7236-11eb-8f3f-0a4ddfa1fd2d
DTSTAMP:20231218T182403Z
SUMMARY:Executive Session - Mar. 2\, 2021
LOCATION:Virtual Meeting
URL;VALUE=URI:https://www.hammond.k12.in.us/calendar/2542737/executive-sess
 ion-mar-2-2021
DTSTART:20210302T233000Z
DTEND:20210303T003000Z
ATTACH;FILENAME=SCH_Executive Sessions_Public Work Session.pdf;FMTTYPE=appl
 ication/pdf:https://campussuite-storage.s3.amazonaws.com/prod/1559033/fab8
 744a-ab41-11ea-9bfa-127f10bcdb1b/2228631/9b8c5a24-7236-11eb-bece-0a4ddfa1f
 d2d/file/SCH_Executive Sessions_Public Work Session.pdf
END:VEVENT
END:VCALENDAR
