BEGIN:VCALENDAR
VERSION:2.0
PRODID:SchoolNow
CALSCALE:GREGORIAN
BEGIN:VEVENT
UID:57d0e29c-6a47-11eb-b796-0e40850a7f2f
DTSTAMP:20231218T182352Z
SUMMARY:Executive Session - Feb. 11\, 2021
URL;VALUE=URI:https://www.hammond.k12.in.us/calendar/2536057/executive-sess
 ion-feb-11-2021
DTSTART:20210211T233000Z
DTEND:20210212T003000Z
ATTACH;FILENAME=SCH_ExecutiveSession_021121.pdf;FMTTYPE=application/pdf:htt
 ps://campussuite-storage.s3.amazonaws.com/prod/1559033/fab8744a-ab41-11ea-
 9bfa-127f10bcdb1b/2224416/8a94a9cc-6a45-11eb-aa21-0e65fe4497e3/file/SCH_Ex
 ecutiveSession_021121.pdf
ATTACH;FILENAME=SchoolBoardMeetings_Feb2021_R.pdf;FMTTYPE=application/pdf:h
 ttps://campussuite-storage.s3.amazonaws.com/prod/1559033/fab8744a-ab41-11e
 a-9bfa-127f10bcdb1b/2224431/8f44db02-6a47-11eb-9c74-0e40850a7f2f/file/Scho
 olBoardMeetings_Feb2021_R.pdf
END:VEVENT
END:VCALENDAR
