BEGIN:VCALENDAR
VERSION:2.0
PRODID:SchoolNow
CALSCALE:GREGORIAN
BEGIN:VEVENT
UID:035e4658-60df-11eb-b19e-0e7aea61eb5d
DTSTAMP:20231218T182109Z
SUMMARY:Executive Session - Feb. 2\, 2021
URL;VALUE=URI:https://www.hammond.k12.in.us/calendar/2531484/executive-sess
 ion-feb-2-2021
DTSTART:20210202T233000Z
DTEND:20210203T000000Z
ATTACH;FILENAME=SCH_ExecutiveSession_020221_R.pdf;FMTTYPE=application/pdf:h
 ttps://campussuite-storage.s3.amazonaws.com/prod/1559033/fab8744a-ab41-11e
 a-9bfa-127f10bcdb1b/2222018/8c69c50e-656b-11eb-ba15-0a4e021f88a3/file/SCH_
 ExecutiveSession_020221_R.pdf
END:VEVENT
END:VCALENDAR
