BEGIN:VCALENDAR
VERSION:2.0
PRODID:SchoolNow
CALSCALE:GREGORIAN
BEGIN:VEVENT
UID:e7ed78a8-60de-11eb-88a3-0e7aea61eb5d
DTSTAMP:20231218T211138Z
SUMMARY:School Board Meeting - Feb. 16\, 2021
LOCATION:School City of Hammond's YouTube Channel
URL;VALUE=URI:https://www.hammond.k12.in.us/calendar/2531483/school-board-m
 eeting-feb-16-2021
DTSTART:20210217T000000Z
DTEND:20210217T013000Z
ATTACH;FILENAME=SchoolBoardMeetings_Feb2021_R.pdf;FMTTYPE=application/pdf:h
 ttps://campussuite-storage.s3.amazonaws.com/prod/1559033/fab8744a-ab41-11e
 a-9bfa-127f10bcdb1b/2224431/8f44db02-6a47-11eb-9c74-0e40850a7f2f/file/Scho
 olBoardMeetings_Feb2021_R.pdf
END:VEVENT
END:VCALENDAR
