BEGIN:VCALENDAR
VERSION:2.0
PRODID:SchoolNow
CALSCALE:GREGORIAN
BEGIN:VEVENT
UID:b78a4592-60de-11eb-90ee-0e7aea61eb5d
DTSTAMP:20231218T211126Z
SUMMARY:School Board Meeting - Feb. 2\, 2021
LOCATION:School City of Hammond's YouTube Channel
URL;VALUE=URI:https://www.hammond.k12.in.us/calendar/2531482/school-board-m
 eeting-feb-2-2021
DTSTART:20210203T000000Z
DTEND:20210203T013000Z
ATTACH;FILENAME=SchoolBoardMeetings_Feb2021.pdf;FMTTYPE=application/pdf:htt
 ps://campussuite-storage.s3.amazonaws.com/prod/1559033/fab8744a-ab41-11ea-
 9bfa-127f10bcdb1b/2220052/0db194a0-60dc-11eb-b916-02fa7cb5114f/file/School
 BoardMeetings_Feb2021.pdf
ATTACH;FILENAME=Guidlines_Public_Comment.pdf;FMTTYPE=application/pdf:https:
 //campussuite-storage.s3.amazonaws.com/prod/1559033/fab8744a-ab41-11ea-9bf
 a-127f10bcdb1b/2220062/a92b9e60-60de-11eb-8fb3-0e7aea61eb5d/file/Guidlines
 _Public_Comment.pdf
END:VEVENT
END:VCALENDAR
