BEGIN:VCALENDAR
VERSION:2.0
PRODID:SchoolNow
CALSCALE:GREGORIAN
BEGIN:VEVENT
UID:f1737296-5441-11eb-bd36-0e5a2824ede7
DTSTAMP:20231218T182054Z
SUMMARY:Executive Session - Jan. 20\, 2021
URL;VALUE=URI:https://www.hammond.k12.in.us/calendar/2522552/executive-sess
 ion-jan-20-2021
DTSTART:20210120T233000Z
DTEND:20210121T003000Z
ATTACH;FILENAME=SCH_ExecutiveSession_012021.pdf;FMTTYPE=application/pdf:htt
 ps://campussuite-storage.s3.amazonaws.com/prod/1559033/fab8744a-ab41-11ea-
 9bfa-127f10bcdb1b/2213360/e34f16b6-5441-11eb-bf38-0a07cca076f5/file/SCH_Ex
 ecutiveSession_012021.pdf
END:VEVENT
END:VCALENDAR
