BEGIN:VCALENDAR
VERSION:2.0
PRODID:SchoolNow
CALSCALE:GREGORIAN
BEGIN:VEVENT
UID:30d250d6-4a1c-11eb-8847-0262c59b0ec9
DTSTAMP:20231218T182517Z
SUMMARY:Executive Session - Jan. 5\, 2021
LOCATION:Virtual
URL;VALUE=URI:https://www.hammond.k12.in.us/calendar/2517418/executive-sess
 ion-jan-5-2021
DTSTART:20210105T233000Z
DTEND:20210106T000000Z
ATTACH;FILENAME=SCH_Executive Session_010521.pdf;FMTTYPE=application/pdf:ht
 tps://campussuite-storage.s3.amazonaws.com/prod/1559033/fab8744a-ab41-11ea
 -9bfa-127f10bcdb1b/2207723/27507e8e-4a1c-11eb-8892-0262c59b0ec9/file/SCH_E
 xecutive Session_010521.pdf
END:VEVENT
END:VCALENDAR
