BEGIN:VCALENDAR
VERSION:2.0
PRODID:SchoolNow
CALSCALE:GREGORIAN
BEGIN:VEVENT
UID:74bd5a62-43d1-11eb-a9f4-1253aebb41ff
DTSTAMP:20231218T211114Z
SUMMARY:School Board Meeting - Jan. 19\, 2021
URL;VALUE=URI:https://www.hammond.k12.in.us/calendar/2516328/school-board-m
 eeting-jan-19-2021
DTSTART:20210120T000000Z
DTEND:20210120T013000Z
ATTACH;FILENAME=SchoolBoardMeetings_Jan2021.pdf;FMTTYPE=application/pdf:htt
 ps://campussuite-storage.s3.amazonaws.com/prod/1559033/fab8744a-ab41-11ea-
 9bfa-127f10bcdb1b/2201142/385d2598-43d1-11eb-8a4d-1253aebb41ff/file/School
 BoardMeetings_Jan2021.pdf
END:VEVENT
END:VCALENDAR
