BEGIN:VCALENDAR
VERSION:2.0
PRODID:SchoolNow
CALSCALE:GREGORIAN
BEGIN:VEVENT
UID:44556c0c-43c7-11eb-8a80-0ab700149f87
DTSTAMP:20231218T211439Z
SUMMARY:School Board Meeting - Jan. 5\, 2021
LOCATION:SCH YouTube Channel
URL;VALUE=URI:https://www.hammond.k12.in.us/calendar/2516327/school-board-m
 eeting-jan-5-2021
DTSTART:20210106T000000Z
DTEND:20210106T013000Z
ATTACH;FILENAME=SchoolBoardMeetings_Jan2021_R (2).pdf;FMTTYPE=application/p
 df:https://campussuite-storage.s3.amazonaws.com/prod/1559033/fab8744a-ab41
 -11ea-9bfa-127f10bcdb1b/2209230/f04c013a-4ec4-11eb-b833-0262c59b0ec9/file/
 SchoolBoardMeetings_Jan2021_R (2).pdf
END:VEVENT
END:VCALENDAR
