BEGIN:VCALENDAR
VERSION:2.0
PRODID:SchoolNow
CALSCALE:GREGORIAN
BEGIN:VEVENT
UID:9cc23890-3b1e-11eb-aa70-12f498f377ef
DTSTAMP:20231218T182754Z
SUMMARY:Executive Session - Dec. 15\, 2020
URL;VALUE=URI:https://www.hammond.k12.in.us/calendar/2511095/executive-sess
 ion-dec-15-2020
DTSTART:20201215T230000Z
DTEND:20201215T233000Z
ATTACH;FILENAME=SCH_Executive Session_121520_R.pdf;FMTTYPE=application/pdf:
 https://campussuite-storage.s3.amazonaws.com/prod/1559033/fab8744a-ab41-11
 ea-9bfa-127f10bcdb1b/2193061/72890a5e-3b1e-11eb-88e7-12f498f377ef/file/SCH
 _Executive Session_121520_R.pdf
END:VEVENT
END:VCALENDAR
