BEGIN:VCALENDAR
VERSION:2.0
PRODID:SchoolNow
CALSCALE:GREGORIAN
BEGIN:VEVENT
UID:822b4468-34b6-11eb-afb2-0a968016e493
DTSTAMP:20201202T155323Z
SUMMARY:Join Team Hammond Robotics
URL;VALUE=URI:https://www.hammond.k12.in.us/calendar/2506837/join-team-hamm
 ond-robotics
DTSTART;VALUE=DATE:20210131
DTEND;VALUE=DATE:20210201
ATTACH;FILENAME=RECRUIT.pdf;FMTTYPE=application/pdf:https://campussuite-sto
 rage.s3.amazonaws.com/prod/1559033/fab8744a-ab41-11ea-9bfa-127f10bcdb1b/21
 89090/83613ec2-34a3-11eb-b3f7-0a90d27fb8d7/file/RECRUIT.pdf
END:VEVENT
END:VCALENDAR
