BEGIN:VCALENDAR
VERSION:2.0
PRODID:SchoolNow
CALSCALE:GREGORIAN
BEGIN:VEVENT
UID:93b0b14a-1ee6-11eb-a3b9-12f2f997eb13
DTSTAMP:20231218T213910Z
SUMMARY:Public Meeting - Nov. 16\, 2020
URL;VALUE=URI:https://www.hammond.k12.in.us/calendar/2489204/public-meeting
 -nov-16-2020
DTSTART:20201116T233000Z
DTEND:20201117T003000Z
ATTACH;FILENAME=SCH_Public Meeting_111620.pdf;FMTTYPE=application/pdf:https
 ://campussuite-storage.s3.amazonaws.com/prod/1559033/fab8744a-ab41-11ea-9b
 fa-127f10bcdb1b/2184329/b0334a5c-260d-11eb-918d-0ad19b03ab03/file/SCH_Publ
 ic Meeting_111620.pdf
END:VEVENT
END:VCALENDAR
