BEGIN:VCALENDAR
VERSION:2.0
PRODID:SchoolNow
CALSCALE:GREGORIAN
BEGIN:VEVENT
UID:3c5c2d48-1e0f-11eb-b633-12811b8e0b3d
DTSTAMP:20231218T213938Z
SUMMARY:Public Meeting - Nov. 6\, 2020
LOCATION:Administration Center\, 41 Williams Street\, Hammond\, IN 46320
URL;VALUE=URI:https://www.hammond.k12.in.us/calendar/2488097/public-meeting
 -nov-6-2020
DTSTART:20201106T233000Z
DTEND:20201107T003000Z
ATTACH;FILENAME=SCH_Public Meeting_110620.pdf;FMTTYPE=application/pdf:https
 ://campussuite-storage.s3.amazonaws.com/prod/1559033/fab8744a-ab41-11ea-9b
 fa-127f10bcdb1b/2179909/356c3e92-1e0f-11eb-a947-12811b8e0b3d/file/SCH_Publ
 ic Meeting_110620.pdf
END:VEVENT
END:VCALENDAR
