BEGIN:VCALENDAR
VERSION:2.0
PRODID:SchoolNow
CALSCALE:GREGORIAN
BEGIN:VEVENT
UID:995a8752-17ce-11eb-8fcb-129c5f65a37d
DTSTAMP:20231218T182807Z
SUMMARY:Executive Session - Oct. 29\, 2020
LOCATION:Administration Center\, 41 Williams Street\, Hammond\, IN 46320
URL;VALUE=URI:https://www.hammond.k12.in.us/calendar/2481430/executive-sess
 ion-oct-29-2020
DTSTART:20201029T223000Z
DTEND:20201029T233000Z
ATTACH;FILENAME=SCH_ExecutiveSessions_102920_R.pdf;FMTTYPE=application/pdf:
 https://campussuite-storage.s3.amazonaws.com/prod/1559033/fab8744a-ab41-11
 ea-9bfa-127f10bcdb1b/2176684/2f704b32-186a-11eb-8e15-0ac04ed6faa7/file/SCH
 _ExecutiveSessions_102920_R.pdf
END:VEVENT
END:VCALENDAR
