BEGIN:VCALENDAR
VERSION:2.0
PRODID:SchoolNow
CALSCALE:GREGORIAN
BEGIN:VEVENT
UID:04b35ab8-14a7-11eb-87b9-0ad3b27e12ad
DTSTAMP:20231218T182825Z
SUMMARY:Executive Session - Nov. 10\, 2020
LOCATION:Administration Center\, 41 Williams Street\, Hammond\, IN 46320
URL;VALUE=URI:https://www.hammond.k12.in.us/calendar/2478072/executive-sess
 ion-nov-10-2020
DTSTART:20201110T233000Z
DTEND:20201111T000000Z
ATTACH;FILENAME=SCH_ExecutiveSession_101020.pdf;FMTTYPE=application/pdf:htt
 ps://campussuite-storage.s3.amazonaws.com/prod/1559033/fab8744a-ab41-11ea-
 9bfa-127f10bcdb1b/2180383/2d3e1ba4-1ee7-11eb-a52e-0aebf77ceeb5/file/SCH_Ex
 ecutiveSession_101020.pdf
END:VEVENT
END:VCALENDAR
