BEGIN:VCALENDAR
VERSION:2.0
PRODID:SchoolNow
CALSCALE:GREGORIAN
BEGIN:VEVENT
UID:bc10ba32-14a4-11eb-a4ef-0ad3b27e12ad
DTSTAMP:20231218T211529Z
SUMMARY:School Board Meeting - Nov. 20\, 2020
LOCATION:Administration Center\, 41 Williams Street\, Hammond\, IN 46320
URL;VALUE=URI:https://www.hammond.k12.in.us/calendar/2478070/school-board-m
 eeting-nov-20-2020
DTSTART:20201111T000000Z
DTEND:20201111T013000Z
END:VEVENT
END:VCALENDAR
