BEGIN:VCALENDAR
VERSION:2.0
PRODID:SchoolNow
CALSCALE:GREGORIAN
BEGIN:VEVENT
UID:7bb96366-148c-11eb-a354-0ad3b27e12ad
DTSTAMP:20231218T213924Z
SUMMARY:Public Meeting - Nov. 9\, 2020
LOCATION:Administration Center\, 41 Williams Street\, Hammond\, IN 46320
URL;VALUE=URI:https://www.hammond.k12.in.us/calendar/2477810/public-meeting
 -nov-9-2020
DTSTART:20201109T233000Z
DTEND:20201110T003000Z
ATTACH;FILENAME=Notice Public Meeting_Superintendent Contract.pdf;FMTTYPE=a
 pplication/pdf:https://campussuite-storage.s3.amazonaws.com/prod/1559033/f
 ab8744a-ab41-11ea-9bfa-127f10bcdb1b/2175120/5ce78968-148c-11eb-a2f2-0ad3b2
 7e12ad/file/Notice Public Meeting_Superintendent Contract.pdf
END:VEVENT
END:VCALENDAR
