BEGIN:VCALENDAR
VERSION:2.0
PRODID:SchoolNow
CALSCALE:GREGORIAN
BEGIN:VEVENT
UID:0317eb6c-0e2e-11eb-8d7f-0a9cd6799845
DTSTAMP:20231218T182902Z
SUMMARY:Executive Session - Oct. 20\, 2020
LOCATION:Administration Center\, 41 Williams Street\, Hammond\, IN 46320
URL;VALUE=URI:https://www.hammond.k12.in.us/calendar/2457672/executive-sess
 ion-oct-20-2020
DTSTART:20201020T223000Z
DTEND:20201020T230000Z
ATTACH;FILENAME=SCH_ExecutiveSessions_102020.pdf;FMTTYPE=application/pdf:ht
 tps://campussuite-storage.s3.amazonaws.com/prod/1559033/fab8744a-ab41-11ea
 -9bfa-127f10bcdb1b/2171481/e5ea36da-0e2d-11eb-b4cb-121703fa41b9/file/SCH_E
 xecutiveSessions_102020.pdf
END:VEVENT
END:VCALENDAR
