BEGIN:VCALENDAR
VERSION:2.0
PRODID:SchoolNow
CALSCALE:GREGORIAN
BEGIN:VEVENT
UID:4a1b0fa4-0cac-11eb-907c-0a8172907111
DTSTAMP:20231218T214312Z
SUMMARY:Public Work Session - Oct. 27\, 2020
LOCATION:Administration Center\, 41 Williams Street\, Hammond\, IN 46320
URL;VALUE=URI:https://www.hammond.k12.in.us/calendar/2448403/public-work-se
 ssion-oct-27-2020
DTSTART:20201027T223000Z
DTEND:20201028T003000Z
ATTACH;FILENAME=SCH_PublicWorkSessions_Oct20.pdf;FMTTYPE=application/pdf:ht
 tps://campussuite-storage.s3.amazonaws.com/prod/1559033/fab8744a-ab41-11ea
 -9bfa-127f10bcdb1b/2170660/e996fda2-0ca9-11eb-a77b-0a8172907111/file/SCH_P
 ublicWorkSessions_Oct20.pdf
END:VEVENT
END:VCALENDAR
