BEGIN:VCALENDAR
VERSION:2.0
PRODID:SchoolNow
CALSCALE:GREGORIAN
BEGIN:VEVENT
UID:ca00537c-0a28-11eb-973e-0af9bae9b379
DTSTAMP:20210421T142501Z
SUMMARY:Latino Resource Fair
LOCATION:Irving Elementary School
URL;VALUE=URI:https://www.hammond.k12.in.us/calendar/2434128/latino-resourc
 e-fair
DTSTART:20201017T150000Z
DTEND:20201017T190000Z
ATTACH;FILENAME=;FMTTYPE=application/octet-stream:
ATTACH;FILENAME=;FMTTYPE=application/octet-stream:
END:VEVENT
END:VCALENDAR
