BEGIN:VCALENDAR
VERSION:2.0
PRODID:SchoolNow
CALSCALE:GREGORIAN
BEGIN:VEVENT
UID:9e9d1186-fd15-11ea-83f7-126edf5af8e5
DTSTAMP:20231218T183032Z
SUMMARY:Executive Session - Sept. 29\, 2020
URL;VALUE=URI:https://www.hammond.k12.in.us/calendar/2377193/executive-sess
 ion-sept-29-2020
DTSTART:20200929T223000Z
DTEND:20200929T230000Z
ATTACH;FILENAME=SCH_ExecutiveSessions_092920.pdf;FMTTYPE=application/pdf:ht
 tps://campussuite-storage.s3.amazonaws.com/prod/1559033/fab8744a-ab41-11ea
 -9bfa-127f10bcdb1b/2162118/7f1a9ef0-fd15-11ea-94ef-126edf5af8e5/file/SCH_E
 xecutiveSessions_092920.pdf
END:VEVENT
END:VCALENDAR
