BEGIN:VCALENDAR
VERSION:2.0
PRODID:SchoolNow
CALSCALE:GREGORIAN
BEGIN:VEVENT
UID:28852494-fd05-11ea-8b51-126edf5af8e5
DTSTAMP:20231218T214327Z
SUMMARY:Public Work Session - Sept. 29\, 2020
URL;VALUE=URI:https://www.hammond.k12.in.us/calendar/2376585/public-work-se
 ssion-sept-29-2020
DTSTART:20200929T230000Z
DTEND:20200930T010000Z
ATTACH;FILENAME=SCH_PublicWorkSession_09292020 (1).pdf;FMTTYPE=application/
 pdf:https://campussuite-storage.s3.amazonaws.com/prod/1559033/fab8744a-ab4
 1-11ea-9bfa-127f10bcdb1b/2162119/18cc8a4a-fd16-11ea-b235-12301a238921/file
 /SCH_PublicWorkSession_09292020 (1).pdf
END:VEVENT
END:VCALENDAR
