BEGIN:VCALENDAR
VERSION:2.0
PRODID:SchoolNow
CALSCALE:GREGORIAN
BEGIN:VEVENT
UID:3bf621c4-fc13-11ea-b1ec-12e7856d820b
DTSTAMP:20231218T225930Z
SUMMARY:FREE Car Seat Safety Clinic - Sept. 26\, 2020
URL;VALUE=URI:https://www.hammond.k12.in.us/calendar/2372495/free-car-seat-
 safety-clinic
DTSTART;VALUE=DATE:20200926
DTEND;VALUE=DATE:20200927
ATTACH;FILENAME=WC080620NI-CarSeatSafety8.5x11.pdf;FMTTYPE=application/pdf:
 https://campussuite-storage.s3.amazonaws.com/prod/1559033/fab8744a-ab41-11
 ea-9bfa-127f10bcdb1b/2161240/042ae0f0-fc12-11ea-82b3-0ad12ca4eec3/file/WC0
 80620NI-CarSeatSafety8.5x11.pdf
END:VEVENT
END:VCALENDAR
