BEGIN:VCALENDAR
VERSION:2.0
PRODID:SchoolNow
CALSCALE:GREGORIAN
BEGIN:VEVENT
UID:c6740cd2-f838-11ea-b9fb-0af66236e143
DTSTAMP:20231218T211738Z
SUMMARY:School Board Meeting - Oct. 20\, 2020
LOCATION:Administration Center
URL;VALUE=URI:https://www.hammond.k12.in.us/calendar/2359503/school-board-m
 eeting-oct-20-2020
DTSTART:20201020T230000Z
DTEND:20201021T003000Z
ATTACH;FILENAME=SchoolBoardMeetings_Oct2020.pdf;FMTTYPE=application/pdf:htt
 ps://campussuite-storage.s3.amazonaws.com/prod/1559033/fab8744a-ab41-11ea-
 9bfa-127f10bcdb1b/2159334/b1436920-f838-11ea-a2c0-0af66236e143/file/School
 BoardMeetings_Oct2020.pdf
END:VEVENT
END:VCALENDAR
