BEGIN:VCALENDAR
VERSION:2.0
PRODID:SchoolNow
CALSCALE:GREGORIAN
BEGIN:VEVENT
UID:58f06296-f838-11ea-9aaa-0af66236e143
DTSTAMP:20231218T183321Z
SUMMARY:Executive Session - Oct. 6\, 2020
LOCATION:Administration Center
URL;VALUE=URI:https://www.hammond.k12.in.us/calendar/2359501/executive-sess
 ion-oct-6-2020
DTSTART:20201006T223000Z
DTEND:20201006T230000Z
ATTACH;FILENAME=SCH_ExecutiveSession_100620 (1).pdf;FMTTYPE=application/pdf
 :https://campussuite-storage.s3.amazonaws.com/prod/1559033/fab8744a-ab41-1
 1ea-9bfa-127f10bcdb1b/2161907/028463bc-fcf2-11ea-8685-12e81a807dd3/file/SC
 H_ExecutiveSession_100620 (1).pdf
END:VEVENT
END:VCALENDAR
