BEGIN:VCALENDAR
VERSION:2.0
PRODID:SchoolNow
CALSCALE:GREGORIAN
BEGIN:VEVENT
UID:1dcda9c6-f2a7-11ea-b219-1252a4651265
DTSTAMP:20210421T142501Z
SUMMARY:Covid-19 Testing Miller School
URL;VALUE=URI:https://www.hammond.k12.in.us/calendar/2343123/covid-19-testi
 ng-miller-school
DTSTART:20200909T141500Z
DTEND:20200909T151500Z
ATTACH;FILENAME=bigstock-Coronavirus-Icon-Vector-Novel-354789068-1024x1024.
 jpg;FMTTYPE=image/jpeg:https://campussuite-storage.s3.amazonaws.com/prod/1
 559033/fab8744a-ab41-11ea-9bfa-127f10bcdb1b/2124740/09ff51fa-be32-11ea-b8a
 1-0a436d341147/file/bigstock-Coronavirus-Icon-Vector-Novel-354789068-1024x
 1024.jpg
END:VEVENT
END:VCALENDAR
