BEGIN:VCALENDAR
VERSION:2.0
PRODID:SchoolNow
CALSCALE:GREGORIAN
BEGIN:VEVENT
UID:cfdad788-ed57-11ea-b8d6-12c5e6a6bb83
DTSTAMP:20210421T142501Z
SUMMARY:SEA 390 Public Hearing of the HTF & the SCH
URL;VALUE=URI:https://www.hammond.k12.in.us/calendar/2332818/sea-390-public
 -hearing-of-the-htf-the-sch
DTSTART:20200910T220000Z
DTEND:20200910T230000Z
ATTACH;FILENAME=Notice_Public_Hearing_091020.pdf;FMTTYPE=application/pdf:ht
 tps://campussuite-storage.s3.amazonaws.com/prod/1559033/fab8744a-ab41-11ea
 -9bfa-127f10bcdb1b/2153952/9ee16620-ed56-11ea-9997-0ad94ea3296f/file/Notic
 e_Public_Hearing_091020.pdf
END:VEVENT
END:VCALENDAR
