BEGIN:VCALENDAR
VERSION:2.0
PRODID:SchoolNow
CALSCALE:GREGORIAN
BEGIN:VEVENT
UID:841e6788-ed57-11ea-b17f-12c5e6a6bb83
DTSTAMP:20231218T183304Z
SUMMARY:Executive Session - Sept. 22\, 2020
LOCATION:Administration Center
URL;VALUE=URI:https://www.hammond.k12.in.us/calendar/2332817/executive-sess
 ion-sept-22-2020
DTSTART:20200922T223000Z
DTEND:20200922T233000Z
ATTACH;FILENAME=SCH_ExecutiveSessions_Sept2020.pdf;FMTTYPE=application/pdf:
 https://campussuite-storage.s3.amazonaws.com/prod/1559033/fab8744a-ab41-11
 ea-9bfa-127f10bcdb1b/2153951/9ee1612a-ed56-11ea-bada-0ad94ea3296f/file/SCH
 _ExecutiveSessions_Sept2020.pdf
END:VEVENT
END:VCALENDAR
