BEGIN:VCALENDAR
VERSION:2.0
PRODID:SchoolNow
CALSCALE:GREGORIAN
BEGIN:VEVENT
UID:b0d4419a-ed56-11ea-b767-0ad94ea3296f
DTSTAMP:20231218T183017Z
SUMMARY:Executive Session - Sept. 15\, 2020
LOCATION:Administration Center
URL;VALUE=URI:https://www.hammond.k12.in.us/calendar/2332815/executive-sess
 ion-sept-15-2020
DTSTART:20200915T223000Z
DTEND:20200915T230000Z
ATTACH;FILENAME=SCH_ExecutiveSessions_Sept2020.pdf;FMTTYPE=application/pdf:
 https://campussuite-storage.s3.amazonaws.com/prod/1559033/fab8744a-ab41-11
 ea-9bfa-127f10bcdb1b/2153951/9ee1612a-ed56-11ea-bada-0ad94ea3296f/file/SCH
 _ExecutiveSessions_Sept2020.pdf
END:VEVENT
END:VCALENDAR
