BEGIN:VCALENDAR
VERSION:2.0
PRODID:SchoolNow
CALSCALE:GREGORIAN
BEGIN:VEVENT
UID:dc50dd2e-e3ec-11ea-a61a-0a5c3e7d2f55
DTSTAMP:20231218T183005Z
SUMMARY:Executive Session - Sept. 1\, 2020
LOCATION:Administration Center
URL;VALUE=URI:https://www.hammond.k12.in.us/calendar/2315226/executive-sess
 ion-sept-1-2020
DTSTART:20200901T223000Z
DTEND:20200901T230000Z
ATTACH;FILENAME=SCH_ExecutiveSession_090120 (2).pdf;FMTTYPE=application/pdf
 :https://campussuite-storage.s3.amazonaws.com/prod/1559033/fab8744a-ab41-1
 1ea-9bfa-127f10bcdb1b/2150917/526c03ee-e7da-11ea-9acc-0a19a006eaaf/file/SC
 H_ExecutiveSession_090120 (2).pdf
END:VEVENT
END:VCALENDAR
