BEGIN:VCALENDAR
VERSION:2.0
PRODID:SchoolNow
CALSCALE:GREGORIAN
BEGIN:VEVENT
UID:aa43d0de-e3ec-11ea-a532-0a5c3e7d2f55
DTSTAMP:20231218T211721Z
SUMMARY:School Board Meeting - Sept. 15\, 2020
LOCATION:Administration Center
URL;VALUE=URI:https://www.hammond.k12.in.us/calendar/2315225/school-board-m
 eeting-sept-15-2020
DTSTART:20200915T230000Z
DTEND:20200916T003000Z
ATTACH;FILENAME=SchoolBoardMeetings_Sep2020_R.pdf;FMTTYPE=application/pdf:h
 ttps://campussuite-storage.s3.amazonaws.com/prod/1559033/fab8744a-ab41-11e
 a-9bfa-127f10bcdb1b/2153960/0feccb02-ed57-11ea-85e4-0ad94ea3296f/file/Scho
 olBoardMeetings_Sep2020_R.pdf
END:VEVENT
END:VCALENDAR
